BEGIN:VCALENDAR
VERSION:2.0
PRODID:-//Roadhouse Barn &amp; Grill - ECPv6.15.20//NONSGML v1.0//EN
CALSCALE:GREGORIAN
METHOD:PUBLISH
X-ORIGINAL-URL:https://roadhousebarnandgrill.com
X-WR-CALDESC:Events for Roadhouse Barn &amp; Grill
REFRESH-INTERVAL;VALUE=DURATION:PT1H
X-Robots-Tag:noindex
X-PUBLISHED-TTL:PT1H
BEGIN:VTIMEZONE
TZID:UTC
BEGIN:STANDARD
TZOFFSETFROM:+0000
TZOFFSETTO:+0000
TZNAME:UTC
DTSTART:20240101T000000
END:STANDARD
END:VTIMEZONE
BEGIN:VEVENT
DTSTART;TZID=UTC:20250831T140000
DTEND;TZID=UTC:20250831T180000
DTSTAMP:20260421T081334
CREATED:20250417T202033Z
LAST-MODIFIED:20250417T202033Z
UID:10000096-1756648800-1756663200@roadhousebarnandgrill.com
SUMMARY:Anthony Nanney
DESCRIPTION:
URL:https://roadhousebarnandgrill.com/event/anthony-nanney/2025-08-31/
LOCATION:Roadhouse Barn & Grill\, 125 Prairie Rd\, Hawk Point\, MO\, 63349\, United States
CATEGORIES:Acoustic
ATTACH;FMTTYPE=image/jpeg:https://roadhousebarnandgrill.com/wp-content/uploads/2025/04/Anthony-Nanney-at-Roadhouse-Barn-Grill.jpg
END:VEVENT
BEGIN:VEVENT
DTSTART;TZID=UTC:20250829T190000
DTEND;TZID=UTC:20250829T230000
DTSTAMP:20260421T081334
CREATED:20250417T182033Z
LAST-MODIFIED:20250417T183235Z
UID:10000087-1756494000-1756508400@roadhousebarnandgrill.com
SUMMARY:Brad Welker
DESCRIPTION:
URL:https://roadhousebarnandgrill.com/event/brad-welker/
LOCATION:Roadhouse Barn & Grill\, 125 Prairie Rd\, Hawk Point\, MO\, 63349\, United States
CATEGORIES:Acoustic
ATTACH;FMTTYPE=image/jpeg:https://roadhousebarnandgrill.com/wp-content/uploads/2025/04/Brad-Welker-at-Roadhouse-Barn-Grill.jpg
END:VEVENT
BEGIN:VEVENT
DTSTART;TZID=UTC:20250824T190000
DTEND;TZID=UTC:20250824T230000
DTSTAMP:20260421T081334
CREATED:20260219T201659Z
LAST-MODIFIED:20260220T001325Z
UID:10000250-1756062000-1756076400@roadhousebarnandgrill.com
SUMMARY:Trixie Delight
DESCRIPTION:
URL:https://roadhousebarnandgrill.com/event/trixie-delight-2/2025-08-24/
LOCATION:Roadhouse Barn & Grill\, 125 Prairie Rd\, Hawk Point\, MO\, 63349\, United States
CATEGORIES:Full Band
ATTACH;FMTTYPE=image/jpeg:https://roadhousebarnandgrill.com/wp-content/uploads/2024/10/Trixie-Delight.jpg
END:VEVENT
BEGIN:VEVENT
DTSTART;TZID=UTC:20250824T140000
DTEND;TZID=UTC:20250824T180000
DTSTAMP:20260421T081334
CREATED:20250408T114445Z
LAST-MODIFIED:20250408T114831Z
UID:10000074-1756044000-1756058400@roadhousebarnandgrill.com
SUMMARY:Jesse Vaughn
DESCRIPTION:Catch Jesse in action at the Roadhouse!
URL:https://roadhousebarnandgrill.com/event/jesse-vaughn/2025-08-24/
LOCATION:Roadhouse Barn & Grill\, 125 Prairie Rd\, Hawk Point\, MO\, 63349\, United States
CATEGORIES:Acoustic
ATTACH;FMTTYPE=image/jpeg:https://roadhousebarnandgrill.com/wp-content/uploads/2025/04/Event-Photo-Jesse.jpg
END:VEVENT
BEGIN:VEVENT
DTSTART;TZID=UTC:20250823T190000
DTEND;TZID=UTC:20250823T230000
DTSTAMP:20260421T081334
CREATED:20241011T124135Z
LAST-MODIFIED:20260302T195355Z
UID:10000032-1755975600-1755990000@roadhousebarnandgrill.com
SUMMARY:Zero To Ninety
DESCRIPTION:Whether you’re a die-hard fan of the ’90s alternative rock scene or simply looking for a night of incredible live music\, Zero To Ninety has you covered. Hailing from St. Louis\, ZTN is the premier ’90s alt-rock experience in the Midwest\, bringing you a high octane rock show featuring some of your favorite tunes. Zero to Ninety will have you dancing and rocking all night long. ZTN was also voted Best Cover Band in the 2024 St. Louis Magazine A-List awards.  ZTN cranks out unforgettable hits from iconic artists like: Pearl Jam\, Weezer\, Audioslave\, Foo Fighters\, Nirvana\, Smashing Pumpkins\, Bush\, Stone Temple Pilots\, Green Day\, Toadies and many more.
URL:https://roadhousebarnandgrill.com/event/date-held-for-dk-4/2025-08-23/
LOCATION:Roadhouse Barn & Grill\, 125 Prairie Rd\, Hawk Point\, MO\, 63349\, United States
CATEGORIES:Full Band
ATTACH;FMTTYPE=image/jpeg:https://roadhousebarnandgrill.com/wp-content/uploads/2024/10/Zero-To-90.jpg
END:VEVENT
BEGIN:VEVENT
DTSTART;TZID=UTC:20250822T190000
DTEND;TZID=UTC:20250822T230000
DTSTAMP:20260421T081334
CREATED:20250426T143911Z
LAST-MODIFIED:20250426T143911Z
UID:10000103-1755889200-1755903600@roadhousebarnandgrill.com
SUMMARY:The Seconds
DESCRIPTION:Jordan Colbert & Aaron Shafer duo.
URL:https://roadhousebarnandgrill.com/event/the-seconds/2025-08-22/
LOCATION:Roadhouse Barn & Grill\, 125 Prairie Rd\, Hawk Point\, MO\, 63349\, United States
CATEGORIES:Acoustic
ATTACH;FMTTYPE=image/jpeg:https://roadhousebarnandgrill.com/wp-content/uploads/2025/04/65550544_458243924971207_5001308507874525184_n.jpg
END:VEVENT
BEGIN:VEVENT
DTSTART;TZID=UTC:20250817T140000
DTEND;TZID=UTC:20250817T180000
DTSTAMP:20260421T081334
CREATED:20260219T212245Z
LAST-MODIFIED:20260302T235811Z
UID:10000212-1755439200-1755453600@roadhousebarnandgrill.com
SUMMARY:Matt Zeiss
DESCRIPTION:
URL:https://roadhousebarnandgrill.com/event/matt-zeiss-2/2025-08-17/
LOCATION:Roadhouse Barn & Grill\, 125 Prairie Rd\, Hawk Point\, MO\, 63349\, United States
CATEGORIES:Acoustic
ATTACH;FMTTYPE=image/jpeg:https://roadhousebarnandgrill.com/wp-content/uploads/2026/02/matt_zeiss3.jpg
END:VEVENT
BEGIN:VEVENT
DTSTART;TZID=UTC:20250817T140000
DTEND;TZID=UTC:20250817T180000
DTSTAMP:20260421T081334
CREATED:20241017T191939Z
LAST-MODIFIED:20250804T180519Z
UID:10000132-1755439200-1755453600@roadhousebarnandgrill.com
SUMMARY:Matt Zeiss
DESCRIPTION:
URL:https://roadhousebarnandgrill.com/event/matt-zeiss/2025-08-17/
LOCATION:Roadhouse Barn & Grill\, 125 Prairie Rd\, Hawk Point\, MO\, 63349\, United States
CATEGORIES:Acoustic
ATTACH;FMTTYPE=image/jpeg:https://roadhousebarnandgrill.com/wp-content/uploads/2024/10/Matt-Zeiss.jpg
END:VEVENT
BEGIN:VEVENT
DTSTART;TZID=UTC:20250816T190000
DTEND;TZID=UTC:20250816T230000
DTSTAMP:20260421T081334
CREATED:20241011T155034Z
LAST-MODIFIED:20260408T201237Z
UID:10000038-1755370800-1755385200@roadhousebarnandgrill.com
SUMMARY:Russo & Co.
DESCRIPTION:Based around Guitar-Playing\, Singing\, and Tap-Dancing front man\, Anthony J. Russo\, RUSSO & CO blends Upright Bass\, Banjo/Dobro\, Guitar\, Vocal Harmonies\, Percussion and Tap Dance to create a truly authentic Country/Americana sound. While equipped with an arsenal of original music\, this band also offers a wide range of popular cover songs\, ranging from classic to modern and everything your step-dad made you listen to in his 1992 Chevy Silverado. \nOriginally from St Charles\, MO\, Anthony J. Russo left high school at 17 to “join the circus”.  From 2001 until 2019 he toured internationally for a variety of companies (Tap Dogs\, Cirque Du Soleil\, Tap Stars\, 5-star cruise lines\, +) and has had the privilege of playing rooms such as The Kennedy Center in DC\, Radio City Music Hall and Carnegie Hall in NYC\, and hundreds of venues around the world. \nWith over 20 years of entertainment experience\, RUSSO & CO can rock everything from a house party to a sold out venue.  The band is currently based in St Charles\, MO where they can be found opening for touring acts and headlining their own local and regional touring shows.
URL:https://roadhousebarnandgrill.com/event/date-held-for-ar/2025-08-16/
LOCATION:Roadhouse Barn & Grill\, 125 Prairie Rd\, Hawk Point\, MO\, 63349\, United States
CATEGORIES:Full Band
ATTACH;FMTTYPE=image/jpeg:https://roadhousebarnandgrill.com/wp-content/uploads/2024/10/Russo-and-Co.jpg
END:VEVENT
BEGIN:VEVENT
DTSTART;TZID=UTC:20250809T190000
DTEND;TZID=UTC:20250809T230000
DTSTAMP:20260421T081334
CREATED:20241011T135436Z
LAST-MODIFIED:20241015T121700Z
UID:10000046-1754766000-1754780400@roadhousebarnandgrill.com
SUMMARY:Infringement
DESCRIPTION:
URL:https://roadhousebarnandgrill.com/event/infringement/
LOCATION:Roadhouse Barn & Grill\, 125 Prairie Rd\, Hawk Point\, MO\, 63349\, United States
CATEGORIES:Full Band
ATTACH;FMTTYPE=image/jpeg:https://roadhousebarnandgrill.com/wp-content/uploads/2024/10/Infringmenet.jpg
END:VEVENT
BEGIN:VEVENT
DTSTART;TZID=UTC:20250808T190000
DTEND;TZID=UTC:20250808T230000
DTSTAMP:20260421T081334
CREATED:20241016T143737Z
LAST-MODIFIED:20250804T180359Z
UID:10000131-1754679600-1754694000@roadhousebarnandgrill.com
SUMMARY:Rock Mafia
DESCRIPTION:Rock Mafia is a professional working Rock Band specializing in high energy dance rock\, country and pop. With their electrifying live performances\, you won’t want to miss the opportunity to see them in concert!
URL:https://roadhousebarnandgrill.com/event/rock-mafia/2025-08-08/
LOCATION:Roadhouse Barn & Grill\, 125 Prairie Rd\, Hawk Point\, MO\, 63349\, United States
CATEGORIES:Full Band
ATTACH;FMTTYPE=image/jpeg:https://roadhousebarnandgrill.com/wp-content/uploads/2024/10/Rock-Mafia.jpg
END:VEVENT
BEGIN:VEVENT
DTSTART;TZID=UTC:20250803T140000
DTEND;TZID=UTC:20250803T180000
DTSTAMP:20260421T081335
CREATED:20241008T221847Z
LAST-MODIFIED:20241031T123959Z
UID:10000070-1754229600-1754244000@roadhousebarnandgrill.com
SUMMARY:Rogers & Nienhaus
DESCRIPTION:Two exceptional musicians with a lifelong career of performance on the world stage\, ROGERS & NIENHAUS are just that…..world-class!!! With pristine harmony and searing instrumentation\, they are truly a ‘not to be missed’ act\, whether performing as a duo or with The ROGERS & NIENHAUS Band. Terry Jones Rogers & Scott Nienhaus have been performing together since meeting in Nashville\,TN in 1993\, when Terry invited Scott to join the newly formed group\, The Byrds Celebration\, along with Byrds alumni Skip Battin and Gene Parsons.  Both Terry and Scott had storied pasts when they began their long career working together; Terry’s Macon\,GA roots\, recording at famed Capricorn Records Studio with The Pound & Rogers Band and touring the world with classic rock veterans; and Scott’s St. Louis\,MO roots with his band\, Blueberry Hill Records recording artists Acousticity\, and touring the world with The Nicolette Larson Band. Now based out of the St. Louis Metro area\, ROGERS & NIENHAUS have become local favorites with their fiery performances and flawless harmonies\, as well as performing national and international engagements.
URL:https://roadhousebarnandgrill.com/event/rogers-nienhaus/2025-08-03/
LOCATION:Roadhouse Barn & Grill\, 125 Prairie Rd\, Hawk Point\, MO\, 63349\, United States
CATEGORIES:Acoustic
ATTACH;FMTTYPE=image/jpeg:https://roadhousebarnandgrill.com/wp-content/uploads/2024/10/Rogers-Nienhaus-Promo.jpg
END:VEVENT
BEGIN:VEVENT
DTSTART;TZID=UTC:20250802T190000
DTEND;TZID=UTC:20250802T230000
DTSTAMP:20260421T081335
CREATED:20250714T185957Z
LAST-MODIFIED:20250714T185957Z
UID:10000120-1754161200-1754175600@roadhousebarnandgrill.com
SUMMARY:Hubb & The Heavy Hearts
DESCRIPTION:
URL:https://roadhousebarnandgrill.com/event/hubb-the-heavy-hearts/
LOCATION:Roadhouse Barn & Grill\, 125 Prairie Rd\, Hawk Point\, MO\, 63349\, United States
CATEGORIES:Full Band
ATTACH;FMTTYPE=image/jpeg:https://roadhousebarnandgrill.com/wp-content/uploads/2025/07/Event-Photo-Standard.jpg
END:VEVENT
BEGIN:VEVENT
DTSTART;TZID=UTC:20250727T140000
DTEND;TZID=UTC:20250727T170000
DTSTAMP:20260421T081335
CREATED:20241007T212502Z
LAST-MODIFIED:20241011T181022Z
UID:10000013-1753624800-1753635600@roadhousebarnandgrill.com
SUMMARY:Catfish Willie Duo
DESCRIPTION:The Catfish Willie Band a high-energy Roots and Blues band led by guitar virtuoso front man\, Catfish Willie.
URL:https://roadhousebarnandgrill.com/event/catfish-willie-duo/2025-07-27/
LOCATION:Roadhouse Barn & Grill\, 125 Prairie Rd\, Hawk Point\, MO\, 63349\, United States
ATTACH;FMTTYPE=image/jpeg:https://roadhousebarnandgrill.com/wp-content/uploads/2024/10/Catfish-Willie-Duo.jpg
END:VEVENT
BEGIN:VEVENT
DTSTART;TZID=UTC:20250726T190000
DTEND;TZID=UTC:20250726T230000
DTSTAMP:20260421T081335
CREATED:20241005T161202Z
LAST-MODIFIED:20241017T192458Z
UID:10000025-1753556400-1753570800@roadhousebarnandgrill.com
SUMMARY:Retro Joe & The 8 Tracks
DESCRIPTION:
URL:https://roadhousebarnandgrill.com/event/date-held-retro-joe-the-8-tracks/2025-07-26/
LOCATION:Roadhouse Barn & Grill\, 125 Prairie Rd\, Hawk Point\, MO\, 63349\, United States
CATEGORIES:Full Band
ATTACH;FMTTYPE=image/png:https://roadhousebarnandgrill.com/wp-content/uploads/2024/10/Retro-Joe-Logo-for-RBG-Site.png
END:VEVENT
BEGIN:VEVENT
DTSTART;TZID=UTC:20250725T190000
DTEND;TZID=UTC:20250725T230000
DTSTAMP:20260421T081335
CREATED:20250417T190536Z
LAST-MODIFIED:20250417T190536Z
UID:10000093-1753470000-1753484400@roadhousebarnandgrill.com
SUMMARY:Russ Parker
DESCRIPTION:
URL:https://roadhousebarnandgrill.com/event/russ-parker/2025-07-25/
LOCATION:Roadhouse Barn & Grill\, 125 Prairie Rd\, Hawk Point\, MO\, 63349\, United States
CATEGORIES:Acoustic
ATTACH;FMTTYPE=image/jpeg:https://roadhousebarnandgrill.com/wp-content/uploads/2025/04/Russ-Parker-at-Roadhouse-Barn-Grill.jpg
END:VEVENT
BEGIN:VEVENT
DTSTART;TZID=UTC:20250720T140000
DTEND;TZID=UTC:20250720T180000
DTSTAMP:20260421T081335
CREATED:20260219T230455Z
LAST-MODIFIED:20260310T170731Z
UID:10000243-1753020000-1753034400@roadhousebarnandgrill.com
SUMMARY:Denver Wade Trent
DESCRIPTION:Denver Wade Trent is a full-time musician with hundreds of songs in his pocket.  Holler out a song and he can likely sing and play it.  His interactive style will keep you entertained for hours.
URL:https://roadhousebarnandgrill.com/event/denver-wade-trent-2/2025-07-20/
LOCATION:Roadhouse Barn & Grill\, 125 Prairie Rd\, Hawk Point\, MO\, 63349\, United States
CATEGORIES:Acoustic
ATTACH;FMTTYPE=image/jpeg:https://roadhousebarnandgrill.com/wp-content/uploads/2026/02/denver_wade_trent-1.jpg
END:VEVENT
BEGIN:VEVENT
DTSTART;TZID=UTC:20250720T140000
DTEND;TZID=UTC:20250720T180000
DTSTAMP:20260421T081335
CREATED:20241003T204132Z
LAST-MODIFIED:20241011T180935Z
UID:10000004-1753020000-1753034400@roadhousebarnandgrill.com
SUMMARY:Denver Wade Trent
DESCRIPTION:Denver Wade Trent is a full-time musician with hundreds of songs in his pocket.  Holler out a song and he can likely sing and play it.  His interactive style will keep you entertained for hours.
URL:https://roadhousebarnandgrill.com/event/denver-wade-trent/2025-07-20/
LOCATION:Roadhouse Barn & Grill\, 125 Prairie Rd\, Hawk Point\, MO\, 63349\, United States
CATEGORIES:Acoustic
ATTACH;FMTTYPE=image/jpeg:https://roadhousebarnandgrill.com/wp-content/uploads/2024/10/Denver-Wade-Trent.jpg
END:VEVENT
BEGIN:VEVENT
DTSTART;TZID=UTC:20250719T190000
DTEND;TZID=UTC:20250719T230000
DTSTAMP:20260421T081335
CREATED:20241016T013131Z
LAST-MODIFIED:20241016T013132Z
UID:10000057-1752951600-1752966000@roadhousebarnandgrill.com
SUMMARY:Champagne Fixx
DESCRIPTION:STL’s Dance Pop/Rock band.  Champagne Fixx is the band that will keep you dancing all night long.  Music consists of Rock\, Pop\, Dance and today’s top hits.  Top notch female and male lead vocals and harmonies. All the performers are singers\, so the harmonies and the voices are 100% authentic.  This high energy\, engaging group of musicians\, play a variety of popular tunes to please any crowd \nFrom Journey to Evanescence\, to Grease and Lady Gaga\, to Nicki Minaj and Usher!  Curious yet?  There’s a reason people want to get their Fixx! \nCome get yours!!
URL:https://roadhousebarnandgrill.com/event/champagne-fixx/
LOCATION:Roadhouse Barn & Grill\, 125 Prairie Rd\, Hawk Point\, MO\, 63349\, United States
CATEGORIES:Full Band
ATTACH;FMTTYPE=image/jpeg:https://roadhousebarnandgrill.com/wp-content/uploads/2024/10/Champagne-Fixx.jpg
END:VEVENT
BEGIN:VEVENT
DTSTART;TZID=UTC:20250718T190000
DTEND;TZID=UTC:20250718T230000
DTSTAMP:20260421T081335
CREATED:20260219T212245Z
LAST-MODIFIED:20260302T235811Z
UID:10000211-1752865200-1752879600@roadhousebarnandgrill.com
SUMMARY:Matt Zeiss
DESCRIPTION:
URL:https://roadhousebarnandgrill.com/event/matt-zeiss-2/2025-07-18/
LOCATION:Roadhouse Barn & Grill\, 125 Prairie Rd\, Hawk Point\, MO\, 63349\, United States
CATEGORIES:Acoustic
ATTACH;FMTTYPE=image/jpeg:https://roadhousebarnandgrill.com/wp-content/uploads/2026/02/matt_zeiss3.jpg
END:VEVENT
BEGIN:VEVENT
DTSTART;TZID=UTC:20250718T190000
DTEND;TZID=UTC:20250718T230000
DTSTAMP:20260421T081335
CREATED:20241017T191939Z
LAST-MODIFIED:20250804T180519Z
UID:10000066-1752865200-1752879600@roadhousebarnandgrill.com
SUMMARY:Matt Zeiss
DESCRIPTION:
URL:https://roadhousebarnandgrill.com/event/matt-zeiss/2025-07-18/
LOCATION:Roadhouse Barn & Grill\, 125 Prairie Rd\, Hawk Point\, MO\, 63349\, United States
CATEGORIES:Acoustic
ATTACH;FMTTYPE=image/jpeg:https://roadhousebarnandgrill.com/wp-content/uploads/2024/10/Matt-Zeiss.jpg
END:VEVENT
BEGIN:VEVENT
DTSTART;TZID=UTC:20250713T140000
DTEND;TZID=UTC:20250713T180000
DTSTAMP:20260421T081335
CREATED:20241007T001847Z
LAST-MODIFIED:20241008T211453Z
UID:10000010-1752415200-1752429600@roadhousebarnandgrill.com
SUMMARY:Matt Walterscheid
DESCRIPTION:
URL:https://roadhousebarnandgrill.com/event/matt-walterscheid/
LOCATION:Roadhouse Barn & Grill\, 125 Prairie Rd\, Hawk Point\, MO\, 63349\, United States
CATEGORIES:Acoustic
ATTACH;FMTTYPE=image/jpeg:https://roadhousebarnandgrill.com/wp-content/uploads/2024/10/Matt-Walterscheid-for-RBG.jpg
END:VEVENT
BEGIN:VEVENT
DTSTART;TZID=UTC:20250706T140000
DTEND;TZID=UTC:20250706T180000
DTSTAMP:20260421T081335
CREATED:20250417T202033Z
LAST-MODIFIED:20250417T202033Z
UID:10000095-1751810400-1751824800@roadhousebarnandgrill.com
SUMMARY:Anthony Nanney
DESCRIPTION:
URL:https://roadhousebarnandgrill.com/event/anthony-nanney/2025-07-06/
LOCATION:Roadhouse Barn & Grill\, 125 Prairie Rd\, Hawk Point\, MO\, 63349\, United States
CATEGORIES:Acoustic
ATTACH;FMTTYPE=image/jpeg:https://roadhousebarnandgrill.com/wp-content/uploads/2025/04/Anthony-Nanney-at-Roadhouse-Barn-Grill.jpg
END:VEVENT
BEGIN:VEVENT
DTSTART;TZID=UTC:20250628T190000
DTEND;TZID=UTC:20250628T230000
DTSTAMP:20260421T081335
CREATED:20241008T020938Z
LAST-MODIFIED:20241008T211431Z
UID:10000016-1751137200-1751151600@roadhousebarnandgrill.com
SUMMARY:GRAND OPENING: Foreplay
DESCRIPTION:  \n\n 
URL:https://roadhousebarnandgrill.com/event/foreplay-2/
LOCATION:Roadhouse Barn & Grill\, 125 Prairie Rd\, Hawk Point\, MO\, 63349\, United States
CATEGORIES:Full Band
ATTACH;FMTTYPE=image/jpeg:https://roadhousebarnandgrill.com/wp-content/uploads/2024/10/Foreplay-for-RBG.jpg
END:VEVENT
BEGIN:VEVENT
DTSTART;TZID=UTC:20250628T140000
DTEND;TZID=UTC:20250628T180000
DTSTAMP:20260421T081335
CREATED:20241008T015409Z
LAST-MODIFIED:20241008T211407Z
UID:10000002-1751119200-1751133600@roadhousebarnandgrill.com
SUMMARY:GRAND OPENING: Mark Perkins Band
DESCRIPTION:Mark Perkins is a country singer/ songwriter born and raised in O’Fallon Missouri\, but he is not your typical musician. Mark’s energy on stage will have you on the edged of your seat (as Rob Schneider says best) ALL NIGHT LONG! Mark has had the opportunity to share the stage and open for artist’s such as Chris Lane\, Restless Road\, Jesse Keith Whitley\, Brady Seals\, Creed Fisher\, Carly Rogers\, Walker County\, Ryan Daniel\, Alexandra Kay\, Taylor Austin Dye\, and more!
URL:https://roadhousebarnandgrill.com/event/mark-perkins-band-2/
LOCATION:Roadhouse Barn & Grill\, 125 Prairie Rd\, Hawk Point\, MO\, 63349\, United States
CATEGORIES:Full Band
ATTACH;FMTTYPE=image/jpeg:https://roadhousebarnandgrill.com/wp-content/uploads/2024/10/Mark-Perkins-Band-for-RBG.jpg
END:VEVENT
BEGIN:VEVENT
DTSTART;TZID=UTC:20250628T110000
DTEND;TZID=UTC:20250628T140000
DTSTAMP:20260421T081335
CREATED:20250417T011125Z
LAST-MODIFIED:20250420T184854Z
UID:10000086-1751108400-1751119200@roadhousebarnandgrill.com
SUMMARY:GRAND OPENING: Jesse Vaughn
DESCRIPTION:
URL:https://roadhousebarnandgrill.com/event/jesse-vaughn-2/
LOCATION:Roadhouse Barn & Grill\, 125 Prairie Rd\, Hawk Point\, MO\, 63349\, United States
CATEGORIES:Acoustic
ATTACH;FMTTYPE=image/jpeg:https://roadhousebarnandgrill.com/wp-content/uploads/2025/04/Event-Photo-Jesse.jpg
END:VEVENT
END:VCALENDAR