BEGIN:VCALENDAR
VERSION:2.0
PRODID:-//Roadhouse Barn &amp; Grill - ECPv6.15.20//NONSGML v1.0//EN
CALSCALE:GREGORIAN
METHOD:PUBLISH
X-ORIGINAL-URL:https://roadhousebarnandgrill.com
X-WR-CALDESC:Events for Roadhouse Barn &amp; Grill
REFRESH-INTERVAL;VALUE=DURATION:PT1H
X-Robots-Tag:noindex
X-PUBLISHED-TTL:PT1H
BEGIN:VTIMEZONE
TZID:UTC
BEGIN:STANDARD
TZOFFSETFROM:+0000
TZOFFSETTO:+0000
TZNAME:UTC
DTSTART:20250101T000000
END:STANDARD
END:VTIMEZONE
BEGIN:VEVENT
DTSTART;TZID=UTC:20260426T140000
DTEND;TZID=UTC:20260426T180000
DTSTAMP:20260421T094436
CREATED:20260219T212245Z
LAST-MODIFIED:20260302T235811Z
UID:10000214-1777212000-1777226400@roadhousebarnandgrill.com
SUMMARY:Matt Zeiss
DESCRIPTION:
URL:https://roadhousebarnandgrill.com/event/matt-zeiss-2/2026-04-26/
LOCATION:Roadhouse Barn & Grill\, 125 Prairie Rd\, Hawk Point\, MO\, 63349\, United States
CATEGORIES:Acoustic
ATTACH;FMTTYPE=image/jpeg:https://roadhousebarnandgrill.com/wp-content/uploads/2026/02/matt_zeiss3.jpg
END:VEVENT
BEGIN:VEVENT
DTSTART;TZID=UTC:20260503T140000
DTEND;TZID=UTC:20260503T180000
DTSTAMP:20260421T094436
CREATED:20260219T214103Z
LAST-MODIFIED:20260226T221652Z
UID:10000226-1777816800-1777831200@roadhousebarnandgrill.com
SUMMARY:Country Roads
DESCRIPTION:
URL:https://roadhousebarnandgrill.com/event/country-roads-2/2026-05-03/
LOCATION:Roadhouse Barn & Grill\, 125 Prairie Rd\, Hawk Point\, MO\, 63349\, United States
CATEGORIES:Acoustic
ATTACH;FMTTYPE=image/jpeg:https://roadhousebarnandgrill.com/wp-content/uploads/2026/02/country_roads.jpg
END:VEVENT
BEGIN:VEVENT
DTSTART;TZID=UTC:20260524T140000
DTEND;TZID=UTC:20260524T180000
DTSTAMP:20260421T094436
CREATED:20260219T230455Z
LAST-MODIFIED:20260310T170731Z
UID:10000246-1779631200-1779645600@roadhousebarnandgrill.com
SUMMARY:Denver Wade Trent
DESCRIPTION:Denver Wade Trent is a full-time musician with hundreds of songs in his pocket.  Holler out a song and he can likely sing and play it.  His interactive style will keep you entertained for hours.
URL:https://roadhousebarnandgrill.com/event/denver-wade-trent-2/2026-05-24/
LOCATION:Roadhouse Barn & Grill\, 125 Prairie Rd\, Hawk Point\, MO\, 63349\, United States
CATEGORIES:Acoustic
ATTACH;FMTTYPE=image/jpeg:https://roadhousebarnandgrill.com/wp-content/uploads/2026/02/denver_wade_trent-1.jpg
END:VEVENT
BEGIN:VEVENT
DTSTART;TZID=UTC:20260621T140000
DTEND;TZID=UTC:20260621T180000
DTSTAMP:20260421T094436
CREATED:20260219T203025Z
LAST-MODIFIED:20260219T203025Z
UID:10000191-1782050400-1782064800@roadhousebarnandgrill.com
SUMMARY:Kelli Renee
DESCRIPTION:
URL:https://roadhousebarnandgrill.com/event/kelli-renee-3/2026-06-21/
LOCATION:Roadhouse Barn & Grill\, 125 Prairie Rd\, Hawk Point\, MO\, 63349\, United States
CATEGORIES:Acoustic
ATTACH;FMTTYPE=image/jpeg:https://roadhousebarnandgrill.com/wp-content/uploads/2026/02/Kelli_renee_RBGstage.jpg
END:VEVENT
BEGIN:VEVENT
DTSTART;TZID=UTC:20260726T140000
DTEND;TZID=UTC:20260726T180000
DTSTAMP:20260421T094436
CREATED:20260219T212245Z
LAST-MODIFIED:20260302T235811Z
UID:10000215-1785074400-1785088800@roadhousebarnandgrill.com
SUMMARY:Matt Zeiss
DESCRIPTION:
URL:https://roadhousebarnandgrill.com/event/matt-zeiss-2/2026-07-26/
LOCATION:Roadhouse Barn & Grill\, 125 Prairie Rd\, Hawk Point\, MO\, 63349\, United States
CATEGORIES:Acoustic
ATTACH;FMTTYPE=image/jpeg:https://roadhousebarnandgrill.com/wp-content/uploads/2026/02/matt_zeiss3.jpg
END:VEVENT
BEGIN:VEVENT
DTSTART;TZID=UTC:20260816T140000
DTEND;TZID=UTC:20260816T180000
DTSTAMP:20260421T094436
CREATED:20260219T203025Z
LAST-MODIFIED:20260219T203025Z
UID:10000192-1786888800-1786903200@roadhousebarnandgrill.com
SUMMARY:Kelli Renee
DESCRIPTION:
URL:https://roadhousebarnandgrill.com/event/kelli-renee-3/2026-08-16/
LOCATION:Roadhouse Barn & Grill\, 125 Prairie Rd\, Hawk Point\, MO\, 63349\, United States
CATEGORIES:Acoustic
ATTACH;FMTTYPE=image/jpeg:https://roadhousebarnandgrill.com/wp-content/uploads/2026/02/Kelli_renee_RBGstage.jpg
END:VEVENT
BEGIN:VEVENT
DTSTART;TZID=UTC:20260927T140000
DTEND;TZID=UTC:20260927T180000
DTSTAMP:20260421T094436
CREATED:20260219T214103Z
LAST-MODIFIED:20260226T221652Z
UID:10000227-1790517600-1790532000@roadhousebarnandgrill.com
SUMMARY:Country Roads
DESCRIPTION:
URL:https://roadhousebarnandgrill.com/event/country-roads-2/2026-09-27/
LOCATION:Roadhouse Barn & Grill\, 125 Prairie Rd\, Hawk Point\, MO\, 63349\, United States
CATEGORIES:Acoustic
ATTACH;FMTTYPE=image/jpeg:https://roadhousebarnandgrill.com/wp-content/uploads/2026/02/country_roads.jpg
END:VEVENT
BEGIN:VEVENT
DTSTART;TZID=UTC:20261018T140000
DTEND;TZID=UTC:20261018T180000
DTSTAMP:20260421T094436
CREATED:20260219T203025Z
LAST-MODIFIED:20260219T203025Z
UID:10000193-1792332000-1792346400@roadhousebarnandgrill.com
SUMMARY:Kelli Renee
DESCRIPTION:
URL:https://roadhousebarnandgrill.com/event/kelli-renee-3/2026-10-18/
LOCATION:Roadhouse Barn & Grill\, 125 Prairie Rd\, Hawk Point\, MO\, 63349\, United States
CATEGORIES:Acoustic
ATTACH;FMTTYPE=image/jpeg:https://roadhousebarnandgrill.com/wp-content/uploads/2026/02/Kelli_renee_RBGstage.jpg
END:VEVENT
BEGIN:VEVENT
DTSTART;TZID=UTC:20261025T140000
DTEND;TZID=UTC:20261025T180000
DTSTAMP:20260421T094436
CREATED:20260219T212245Z
LAST-MODIFIED:20260302T235811Z
UID:10000216-1792936800-1792951200@roadhousebarnandgrill.com
SUMMARY:Matt Zeiss
DESCRIPTION:
URL:https://roadhousebarnandgrill.com/event/matt-zeiss-2/2026-10-25/
LOCATION:Roadhouse Barn & Grill\, 125 Prairie Rd\, Hawk Point\, MO\, 63349\, United States
CATEGORIES:Acoustic
ATTACH;FMTTYPE=image/jpeg:https://roadhousebarnandgrill.com/wp-content/uploads/2026/02/matt_zeiss3.jpg
END:VEVENT
BEGIN:VEVENT
DTSTART;TZID=UTC:20261129T140000
DTEND;TZID=UTC:20261129T180000
DTSTAMP:20260421T094436
CREATED:20260226T193949Z
LAST-MODIFIED:20260226T221836Z
UID:10000263-1795960800-1795975200@roadhousebarnandgrill.com
SUMMARY:Country Roads
DESCRIPTION:
URL:https://roadhousebarnandgrill.com/event/country-roads-2-2/2026-11-29/
LOCATION:Roadhouse Barn & Grill\, 125 Prairie Rd\, Hawk Point\, MO\, 63349\, United States
CATEGORIES:Acoustic
ATTACH;FMTTYPE=image/jpeg:https://roadhousebarnandgrill.com/wp-content/uploads/2026/02/country_roads.jpg
END:VEVENT
BEGIN:VEVENT
DTSTART;TZID=UTC:20261206T140000
DTEND;TZID=UTC:20261206T180000
DTSTAMP:20260421T094436
CREATED:20260219T212245Z
LAST-MODIFIED:20260302T235811Z
UID:10000217-1796565600-1796580000@roadhousebarnandgrill.com
SUMMARY:Matt Zeiss
DESCRIPTION:
URL:https://roadhousebarnandgrill.com/event/matt-zeiss-2/2026-12-06/
LOCATION:Roadhouse Barn & Grill\, 125 Prairie Rd\, Hawk Point\, MO\, 63349\, United States
CATEGORIES:Acoustic
ATTACH;FMTTYPE=image/jpeg:https://roadhousebarnandgrill.com/wp-content/uploads/2026/02/matt_zeiss3.jpg
END:VEVENT
BEGIN:VEVENT
DTSTART;TZID=UTC:20261220T140000
DTEND;TZID=UTC:20261220T180000
DTSTAMP:20260421T094436
CREATED:20260219T203025Z
LAST-MODIFIED:20260219T203025Z
UID:10000194-1797775200-1797789600@roadhousebarnandgrill.com
SUMMARY:Kelli Renee
DESCRIPTION:
URL:https://roadhousebarnandgrill.com/event/kelli-renee-3/2026-12-20/
LOCATION:Roadhouse Barn & Grill\, 125 Prairie Rd\, Hawk Point\, MO\, 63349\, United States
CATEGORIES:Acoustic
ATTACH;FMTTYPE=image/jpeg:https://roadhousebarnandgrill.com/wp-content/uploads/2026/02/Kelli_renee_RBGstage.jpg
END:VEVENT
BEGIN:VEVENT
DTSTART;TZID=UTC:20261227T140000
DTEND;TZID=UTC:20261227T180000
DTSTAMP:20260421T094436
CREATED:20260219T230455Z
LAST-MODIFIED:20260310T170731Z
UID:10000248-1798380000-1798394400@roadhousebarnandgrill.com
SUMMARY:Denver Wade Trent
DESCRIPTION:Denver Wade Trent is a full-time musician with hundreds of songs in his pocket.  Holler out a song and he can likely sing and play it.  His interactive style will keep you entertained for hours.
URL:https://roadhousebarnandgrill.com/event/denver-wade-trent-2/2026-12-27/
LOCATION:Roadhouse Barn & Grill\, 125 Prairie Rd\, Hawk Point\, MO\, 63349\, United States
CATEGORIES:Acoustic
ATTACH;FMTTYPE=image/jpeg:https://roadhousebarnandgrill.com/wp-content/uploads/2026/02/denver_wade_trent-1.jpg
END:VEVENT
END:VCALENDAR