BEGIN:VCALENDAR
VERSION:2.0
PRODID:-//Roadhouse Barn &amp; Grill - ECPv6.15.20//NONSGML v1.0//EN
CALSCALE:GREGORIAN
METHOD:PUBLISH
X-WR-CALNAME:Roadhouse Barn &amp; Grill
X-ORIGINAL-URL:https://roadhousebarnandgrill.com
X-WR-CALDESC:Events for Roadhouse Barn &amp; Grill
REFRESH-INTERVAL;VALUE=DURATION:PT1H
X-Robots-Tag:noindex
X-PUBLISHED-TTL:PT1H
BEGIN:VTIMEZONE
TZID:UTC
BEGIN:STANDARD
TZOFFSETFROM:+0000
TZOFFSETTO:+0000
TZNAME:UTC
DTSTART:20240101T000000
END:STANDARD
END:VTIMEZONE
BEGIN:VEVENT
DTSTART;TZID=UTC:20251102T140000
DTEND;TZID=UTC:20251102T180000
DTSTAMP:20260421T183905
CREATED:20250715T135022Z
LAST-MODIFIED:20260219T214133Z
UID:10000130-1762092000-1762106400@roadhousebarnandgrill.com
SUMMARY:Country Roads
DESCRIPTION:
URL:https://roadhousebarnandgrill.com/event/country-roads/2025-11-02/
LOCATION:Roadhouse Barn & Grill\, 125 Prairie Rd\, Hawk Point\, MO\, 63349\, United States
CATEGORIES:Acoustic
ATTACH;FMTTYPE=image/jpeg:https://roadhousebarnandgrill.com/wp-content/uploads/2026/02/country_roads.jpg
END:VEVENT
BEGIN:VEVENT
DTSTART;TZID=UTC:20251102T140000
DTEND;TZID=UTC:20251102T180000
DTSTAMP:20260421T183905
CREATED:20260219T214103Z
LAST-MODIFIED:20260226T221652Z
UID:10000224-1762092000-1762106400@roadhousebarnandgrill.com
SUMMARY:Country Roads
DESCRIPTION:
URL:https://roadhousebarnandgrill.com/event/country-roads-2/2025-11-02/
LOCATION:Roadhouse Barn & Grill\, 125 Prairie Rd\, Hawk Point\, MO\, 63349\, United States
CATEGORIES:Acoustic
ATTACH;FMTTYPE=image/jpeg:https://roadhousebarnandgrill.com/wp-content/uploads/2026/02/country_roads.jpg
END:VEVENT
BEGIN:VEVENT
DTSTART;TZID=UTC:20251102T140000
DTEND;TZID=UTC:20251102T180000
DTSTAMP:20260421T183905
CREATED:20260226T193949Z
LAST-MODIFIED:20260226T221836Z
UID:10000260-1762092000-1762106400@roadhousebarnandgrill.com
SUMMARY:Country Roads
DESCRIPTION:
URL:https://roadhousebarnandgrill.com/event/country-roads-2-2/2025-11-02/
LOCATION:Roadhouse Barn & Grill\, 125 Prairie Rd\, Hawk Point\, MO\, 63349\, United States
CATEGORIES:Acoustic
ATTACH;FMTTYPE=image/jpeg:https://roadhousebarnandgrill.com/wp-content/uploads/2026/02/country_roads.jpg
END:VEVENT
BEGIN:VEVENT
DTSTART;TZID=UTC:20251109T140000
DTEND;TZID=UTC:20251109T180000
DTSTAMP:20260421T183905
CREATED:20250417T202033Z
LAST-MODIFIED:20250417T202033Z
UID:10000098-1762696800-1762711200@roadhousebarnandgrill.com
SUMMARY:Anthony Nanney
DESCRIPTION:
URL:https://roadhousebarnandgrill.com/event/anthony-nanney/2025-11-09/
LOCATION:Roadhouse Barn & Grill\, 125 Prairie Rd\, Hawk Point\, MO\, 63349\, United States
CATEGORIES:Acoustic
ATTACH;FMTTYPE=image/jpeg:https://roadhousebarnandgrill.com/wp-content/uploads/2025/04/Anthony-Nanney-at-Roadhouse-Barn-Grill.jpg
END:VEVENT
BEGIN:VEVENT
DTSTART;TZID=UTC:20251114T190000
DTEND;TZID=UTC:20251114T230000
DTSTAMP:20260421T183905
CREATED:20241003T204132Z
LAST-MODIFIED:20241011T180935Z
UID:10000006-1763146800-1763161200@roadhousebarnandgrill.com
SUMMARY:Denver Wade Trent
DESCRIPTION:Denver Wade Trent is a full-time musician with hundreds of songs in his pocket.  Holler out a song and he can likely sing and play it.  His interactive style will keep you entertained for hours.
URL:https://roadhousebarnandgrill.com/event/denver-wade-trent/2025-11-14/
LOCATION:Roadhouse Barn & Grill\, 125 Prairie Rd\, Hawk Point\, MO\, 63349\, United States
CATEGORIES:Acoustic
ATTACH;FMTTYPE=image/jpeg:https://roadhousebarnandgrill.com/wp-content/uploads/2024/10/Denver-Wade-Trent.jpg
END:VEVENT
BEGIN:VEVENT
DTSTART;TZID=UTC:20251114T190000
DTEND;TZID=UTC:20251114T230000
DTSTAMP:20260421T183905
CREATED:20260219T230455Z
LAST-MODIFIED:20260310T170731Z
UID:10000245-1763146800-1763161200@roadhousebarnandgrill.com
SUMMARY:Denver Wade Trent
DESCRIPTION:Denver Wade Trent is a full-time musician with hundreds of songs in his pocket.  Holler out a song and he can likely sing and play it.  His interactive style will keep you entertained for hours.
URL:https://roadhousebarnandgrill.com/event/denver-wade-trent-2/2025-11-14/
LOCATION:Roadhouse Barn & Grill\, 125 Prairie Rd\, Hawk Point\, MO\, 63349\, United States
CATEGORIES:Acoustic
ATTACH;FMTTYPE=image/jpeg:https://roadhousebarnandgrill.com/wp-content/uploads/2026/02/denver_wade_trent-1.jpg
END:VEVENT
BEGIN:VEVENT
DTSTART;TZID=UTC:20251116T140000
DTEND;TZID=UTC:20251116T180000
DTSTAMP:20260421T183905
CREATED:20241008T221847Z
LAST-MODIFIED:20241031T123959Z
UID:10000021-1763301600-1763316000@roadhousebarnandgrill.com
SUMMARY:Rogers & Nienhaus
DESCRIPTION:Two exceptional musicians with a lifelong career of performance on the world stage\, ROGERS & NIENHAUS are just that…..world-class!!! With pristine harmony and searing instrumentation\, they are truly a ‘not to be missed’ act\, whether performing as a duo or with The ROGERS & NIENHAUS Band. Terry Jones Rogers & Scott Nienhaus have been performing together since meeting in Nashville\,TN in 1993\, when Terry invited Scott to join the newly formed group\, The Byrds Celebration\, along with Byrds alumni Skip Battin and Gene Parsons.  Both Terry and Scott had storied pasts when they began their long career working together; Terry’s Macon\,GA roots\, recording at famed Capricorn Records Studio with The Pound & Rogers Band and touring the world with classic rock veterans; and Scott’s St. Louis\,MO roots with his band\, Blueberry Hill Records recording artists Acousticity\, and touring the world with The Nicolette Larson Band. Now based out of the St. Louis Metro area\, ROGERS & NIENHAUS have become local favorites with their fiery performances and flawless harmonies\, as well as performing national and international engagements.
URL:https://roadhousebarnandgrill.com/event/rogers-nienhaus/2025-11-16/
LOCATION:Roadhouse Barn & Grill\, 125 Prairie Rd\, Hawk Point\, MO\, 63349\, United States
CATEGORIES:Acoustic
ATTACH;FMTTYPE=image/jpeg:https://roadhousebarnandgrill.com/wp-content/uploads/2024/10/Rogers-Nienhaus-Promo.jpg
END:VEVENT
BEGIN:VEVENT
DTSTART;TZID=UTC:20251123T140000
DTEND;TZID=UTC:20251123T180000
DTSTAMP:20260421T183905
CREATED:20250408T114445Z
LAST-MODIFIED:20250408T114831Z
UID:10000076-1763906400-1763920800@roadhousebarnandgrill.com
SUMMARY:Jesse Vaughn
DESCRIPTION:Catch Jesse in action at the Roadhouse!
URL:https://roadhousebarnandgrill.com/event/jesse-vaughn/2025-11-23/
LOCATION:Roadhouse Barn & Grill\, 125 Prairie Rd\, Hawk Point\, MO\, 63349\, United States
CATEGORIES:Acoustic
ATTACH;FMTTYPE=image/jpeg:https://roadhousebarnandgrill.com/wp-content/uploads/2025/04/Event-Photo-Jesse.jpg
END:VEVENT
END:VCALENDAR