BEGIN:VCALENDAR
VERSION:2.0
PRODID:-//Roadhouse Barn &amp; Grill - ECPv6.15.20//NONSGML v1.0//EN
CALSCALE:GREGORIAN
METHOD:PUBLISH
X-WR-CALNAME:Roadhouse Barn &amp; Grill
X-ORIGINAL-URL:https://roadhousebarnandgrill.com
X-WR-CALDESC:Events for Roadhouse Barn &amp; Grill
REFRESH-INTERVAL;VALUE=DURATION:PT1H
X-Robots-Tag:noindex
X-PUBLISHED-TTL:PT1H
BEGIN:VTIMEZONE
TZID:UTC
BEGIN:STANDARD
TZOFFSETFROM:+0000
TZOFFSETTO:+0000
TZNAME:UTC
DTSTART:20240101T000000
END:STANDARD
END:VTIMEZONE
BEGIN:VEVENT
DTSTART;TZID=UTC:20250803T140000
DTEND;TZID=UTC:20250803T180000
DTSTAMP:20260421T225150
CREATED:20241008T221847Z
LAST-MODIFIED:20241031T123959Z
UID:10000070-1754229600-1754244000@roadhousebarnandgrill.com
SUMMARY:Rogers & Nienhaus
DESCRIPTION:Two exceptional musicians with a lifelong career of performance on the world stage\, ROGERS & NIENHAUS are just that…..world-class!!! With pristine harmony and searing instrumentation\, they are truly a ‘not to be missed’ act\, whether performing as a duo or with The ROGERS & NIENHAUS Band. Terry Jones Rogers & Scott Nienhaus have been performing together since meeting in Nashville\,TN in 1993\, when Terry invited Scott to join the newly formed group\, The Byrds Celebration\, along with Byrds alumni Skip Battin and Gene Parsons.  Both Terry and Scott had storied pasts when they began their long career working together; Terry’s Macon\,GA roots\, recording at famed Capricorn Records Studio with The Pound & Rogers Band and touring the world with classic rock veterans; and Scott’s St. Louis\,MO roots with his band\, Blueberry Hill Records recording artists Acousticity\, and touring the world with The Nicolette Larson Band. Now based out of the St. Louis Metro area\, ROGERS & NIENHAUS have become local favorites with their fiery performances and flawless harmonies\, as well as performing national and international engagements.
URL:https://roadhousebarnandgrill.com/event/rogers-nienhaus/2025-08-03/
LOCATION:Roadhouse Barn & Grill\, 125 Prairie Rd\, Hawk Point\, MO\, 63349\, United States
CATEGORIES:Acoustic
ATTACH;FMTTYPE=image/jpeg:https://roadhousebarnandgrill.com/wp-content/uploads/2024/10/Rogers-Nienhaus-Promo.jpg
END:VEVENT
BEGIN:VEVENT
DTSTART;TZID=UTC:20250817T140000
DTEND;TZID=UTC:20250817T180000
DTSTAMP:20260421T225150
CREATED:20241017T191939Z
LAST-MODIFIED:20250804T180519Z
UID:10000132-1755439200-1755453600@roadhousebarnandgrill.com
SUMMARY:Matt Zeiss
DESCRIPTION:
URL:https://roadhousebarnandgrill.com/event/matt-zeiss/2025-08-17/
LOCATION:Roadhouse Barn & Grill\, 125 Prairie Rd\, Hawk Point\, MO\, 63349\, United States
CATEGORIES:Acoustic
ATTACH;FMTTYPE=image/jpeg:https://roadhousebarnandgrill.com/wp-content/uploads/2024/10/Matt-Zeiss.jpg
END:VEVENT
BEGIN:VEVENT
DTSTART;TZID=UTC:20250817T140000
DTEND;TZID=UTC:20250817T180000
DTSTAMP:20260421T225150
CREATED:20260219T212245Z
LAST-MODIFIED:20260302T235811Z
UID:10000212-1755439200-1755453600@roadhousebarnandgrill.com
SUMMARY:Matt Zeiss
DESCRIPTION:
URL:https://roadhousebarnandgrill.com/event/matt-zeiss-2/2025-08-17/
LOCATION:Roadhouse Barn & Grill\, 125 Prairie Rd\, Hawk Point\, MO\, 63349\, United States
CATEGORIES:Acoustic
ATTACH;FMTTYPE=image/jpeg:https://roadhousebarnandgrill.com/wp-content/uploads/2026/02/matt_zeiss3.jpg
END:VEVENT
BEGIN:VEVENT
DTSTART;TZID=UTC:20250822T190000
DTEND;TZID=UTC:20250822T230000
DTSTAMP:20260421T225150
CREATED:20250426T143911Z
LAST-MODIFIED:20250426T143911Z
UID:10000103-1755889200-1755903600@roadhousebarnandgrill.com
SUMMARY:The Seconds
DESCRIPTION:Jordan Colbert & Aaron Shafer duo.
URL:https://roadhousebarnandgrill.com/event/the-seconds/2025-08-22/
LOCATION:Roadhouse Barn & Grill\, 125 Prairie Rd\, Hawk Point\, MO\, 63349\, United States
CATEGORIES:Acoustic
ATTACH;FMTTYPE=image/jpeg:https://roadhousebarnandgrill.com/wp-content/uploads/2025/04/65550544_458243924971207_5001308507874525184_n.jpg
END:VEVENT
BEGIN:VEVENT
DTSTART;TZID=UTC:20250824T140000
DTEND;TZID=UTC:20250824T180000
DTSTAMP:20260421T225150
CREATED:20250408T114445Z
LAST-MODIFIED:20250408T114831Z
UID:10000074-1756044000-1756058400@roadhousebarnandgrill.com
SUMMARY:Jesse Vaughn
DESCRIPTION:Catch Jesse in action at the Roadhouse!
URL:https://roadhousebarnandgrill.com/event/jesse-vaughn/2025-08-24/
LOCATION:Roadhouse Barn & Grill\, 125 Prairie Rd\, Hawk Point\, MO\, 63349\, United States
CATEGORIES:Acoustic
ATTACH;FMTTYPE=image/jpeg:https://roadhousebarnandgrill.com/wp-content/uploads/2025/04/Event-Photo-Jesse.jpg
END:VEVENT
BEGIN:VEVENT
DTSTART;TZID=UTC:20250829T190000
DTEND;TZID=UTC:20250829T230000
DTSTAMP:20260421T225150
CREATED:20250417T182033Z
LAST-MODIFIED:20250417T183235Z
UID:10000087-1756494000-1756508400@roadhousebarnandgrill.com
SUMMARY:Brad Welker
DESCRIPTION:
URL:https://roadhousebarnandgrill.com/event/brad-welker/
LOCATION:Roadhouse Barn & Grill\, 125 Prairie Rd\, Hawk Point\, MO\, 63349\, United States
CATEGORIES:Acoustic
ATTACH;FMTTYPE=image/jpeg:https://roadhousebarnandgrill.com/wp-content/uploads/2025/04/Brad-Welker-at-Roadhouse-Barn-Grill.jpg
END:VEVENT
BEGIN:VEVENT
DTSTART;TZID=UTC:20250831T140000
DTEND;TZID=UTC:20250831T180000
DTSTAMP:20260421T225150
CREATED:20250417T202033Z
LAST-MODIFIED:20250417T202033Z
UID:10000096-1756648800-1756663200@roadhousebarnandgrill.com
SUMMARY:Anthony Nanney
DESCRIPTION:
URL:https://roadhousebarnandgrill.com/event/anthony-nanney/2025-08-31/
LOCATION:Roadhouse Barn & Grill\, 125 Prairie Rd\, Hawk Point\, MO\, 63349\, United States
CATEGORIES:Acoustic
ATTACH;FMTTYPE=image/jpeg:https://roadhousebarnandgrill.com/wp-content/uploads/2025/04/Anthony-Nanney-at-Roadhouse-Barn-Grill.jpg
END:VEVENT
END:VCALENDAR