BEGIN:VCALENDAR
VERSION:2.0
PRODID:-//Roadhouse Barn &amp; Grill - ECPv6.15.20//NONSGML v1.0//EN
CALSCALE:GREGORIAN
METHOD:PUBLISH
X-WR-CALNAME:Roadhouse Barn &amp; Grill
X-ORIGINAL-URL:https://roadhousebarnandgrill.com
X-WR-CALDESC:Events for Roadhouse Barn &amp; Grill
REFRESH-INTERVAL;VALUE=DURATION:PT1H
X-Robots-Tag:noindex
X-PUBLISHED-TTL:PT1H
BEGIN:VTIMEZONE
TZID:UTC
BEGIN:STANDARD
TZOFFSETFROM:+0000
TZOFFSETTO:+0000
TZNAME:UTC
DTSTART:20250101T000000
END:STANDARD
END:VTIMEZONE
BEGIN:VEVENT
DTSTART;TZID=UTC:20260419T140000
DTEND;TZID=UTC:20260419T180000
DTSTAMP:20260421T125353
CREATED:20260219T211142Z
LAST-MODIFIED:20260220T000841Z
UID:10000203-1776607200-1776621600@roadhousebarnandgrill.com
SUMMARY:Cole Blue Steel
DESCRIPTION:
URL:https://roadhousebarnandgrill.com/event/cole-blue-steel/2026-04-19/
LOCATION:Roadhouse Barn & Grill\, 125 Prairie Rd\, Hawk Point\, MO\, 63349\, United States
ATTACH;FMTTYPE=image/jpeg:https://roadhousebarnandgrill.com/wp-content/uploads/2026/02/634998098_1212108251098510_3023525943193787319_n.jpg
END:VEVENT
END:VCALENDAR